BEGIN:VCALENDAR
VERSION:2.0
PRODID:-//93.7 The Stage - ECPv6.15.20//NONSGML v1.0//EN
CALSCALE:GREGORIAN
METHOD:PUBLISH
X-WR-CALNAME:93.7 The Stage
X-ORIGINAL-URL:https://937thestage.com
X-WR-CALDESC:Events for 93.7 The Stage
REFRESH-INTERVAL;VALUE=DURATION:PT1H
X-Robots-Tag:noindex
X-PUBLISHED-TTL:PT1H
BEGIN:VTIMEZONE
TZID:America/Chicago
BEGIN:DAYLIGHT
TZOFFSETFROM:-0600
TZOFFSETTO:-0500
TZNAME:CDT
DTSTART:20250309T080000
END:DAYLIGHT
BEGIN:STANDARD
TZOFFSETFROM:-0500
TZOFFSETTO:-0600
TZNAME:CST
DTSTART:20251102T070000
END:STANDARD
BEGIN:DAYLIGHT
TZOFFSETFROM:-0600
TZOFFSETTO:-0500
TZNAME:CDT
DTSTART:20260308T080000
END:DAYLIGHT
BEGIN:STANDARD
TZOFFSETFROM:-0500
TZOFFSETTO:-0600
TZNAME:CST
DTSTART:20261101T070000
END:STANDARD
BEGIN:DAYLIGHT
TZOFFSETFROM:-0600
TZOFFSETTO:-0500
TZNAME:CDT
DTSTART:20270314T080000
END:DAYLIGHT
BEGIN:STANDARD
TZOFFSETFROM:-0500
TZOFFSETTO:-0600
TZNAME:CST
DTSTART:20271107T070000
END:STANDARD
END:VTIMEZONE
BEGIN:VEVENT
DTSTART;TZID=America/Chicago:20260626T183000
DTEND;TZID=America/Chicago:20260626T223000
DTSTAMP:20260420T054613
CREATED:20260218T031203Z
LAST-MODIFIED:20260218T031740Z
UID:740-1782498600-1782513000@937thestage.com
SUMMARY:Bulls\, Bands\, & Barrels Summer Jam
DESCRIPTION:Two nights. One iconic venue. Bulls\, Bands\, & Barrels Summer Jam is coming to Thunder Ridge Nature Arena in Ridgedale\, MO on June 26 & 27\, and this one’s built different. \nWorld-class Western sports meet massive live music in one of the most breathtaking venues in the country. Jon Pardi and Hudson Westbrook headline\, joined by Braxton Keith\, Anne Wilson\, The Creekers\, and Tyler Nance\, for a weekend that’s equal parts adrenaline and pure summer energy. \n(Ridgedale\, MO) — Bulls\, Bands\, & Barrels (BBB)\, the premier fusion of Western sports and live music entertainment\, is bringing its biggest summer celebration yet to the Ozarks with Bass Pro Shops Presents Bulls\, Bands\, & Barrels Summer Jam\, set for June 26–27\, 2026\, at the\niconic Thunder Ridge Nature Arena in Ridgedale\, Missouri. \nSet against one of the most breathtaking natural backdrops in live entertainment\, the two-night Summer Jam will feature headline performances from Jon Pardi and Hudson Westbrook\, along with support from Braxton Keith\, Anne Wilson\, The Creekers\, and Tyler Nance. Each night will deliver a unique lineup of music paired with BBB’s signature high-energy Western sports competition. \nFriday\, June 26: Jon Pardi with Braxton Keith and The Creekers \nSaturday\, June 27: Hudson Westbrook with Anne Wilson and Tyler Nance \nBefore the music takes over\, fans will experience the adrenaline-fueled action that defines Bulls\, Bands\, & Barrels\, including elite bull riding\, barrel racing\, and freestyle bullfighting\, showcasing some of the best athletes and stock in the sport. Known for its fast-paced format and modern production\, BBB continues to redefine the traditional rodeo experience by blending top-tier competition with a festival-style concert environment. “Thunder Ridge Nature Arena is one of the most premier destination venues in the country\, and Summer Jam is the perfect place to bring together world-class Western sports and a lineup of artists designed for a high-energy\, outdoor summer festival\,” said BBB Founder & CEO Hunter Price. “This weekend is going to be something truly unforgettable.” \nTickets for Bass Pro Shops Presents Bulls\, Bands\, & Barrels Summer Jam will be available starting at $59.99. Tickets go on sale Friday\, February 20th at 10:00 a.m. local time at BullsBandsAndBarrels.com or Ticketmaster.com. Fans can enhance their experience with the Behind the Chutes Experience\, a premium VIP add-on that includes behind-the-scenes access\, merchandise vouchers\, early entry\, and a private concert viewing area with access to private bars. National partners fueling the 2026 Bulls\, Bands\, & Barrels Tour include Bass Pro Shops\, Blue Otter Polarized\, Boot Barn\, Zero FG Energy\, Tito’s Handmade Vodka\, Busch Light\, and COUNTRY Financial. \nFor more information\, ticket updates\, and announcements\, visit BullsBandsAndBarrels.com or\nfollow Bulls\, Bands\, & Barrels on social media. \n 
URL:https://937thestage.com/event/bulls-bands-barrels-summer-jam/
LOCATION:Thunder Ridge Nature Arena\, 1901 State Hwy 86\, Ridgedale\, MO\, 65739\, United States
ATTACH;FMTTYPE=image/webp:https://937thestage.com/wp-content/uploads/sites/31/2026/02/rd_1080x1080-main-e1770825148911.webp
END:VEVENT
BEGIN:VEVENT
DTSTART;TZID=America/Chicago:20261009T193000
DTEND;TZID=America/Chicago:20261009T220000
DTSTAMP:20260420T054613
CREATED:20260201T205727Z
LAST-MODIFIED:20260204T181159Z
UID:586-1791574200-1791583200@937thestage.com
SUMMARY:Chris Stapleton at Morton Amphitheater in Kansas City
DESCRIPTION:Fri Oct 9\, 2026 and Saturday Oct 10\, 2026 \n7:30PM \nChris Stapleton’s All-American Road Show. \n11x Grammy\, 19x CMA and 21x ACM Award-winner Chris Stapleton will continue his “All-American Road Show” through this fall with over 20 newly confirmed stops including an October 9th and an October 10th show at the new Morton Amphitheater in Kansas City.
URL:https://937thestage.com/event/chris-stapleton-at-morton-amphitheater-in-kansas-city/
LOCATION:Morton Amphitheater\, 6150 NW Music Blvd\, Riverside\, MO\, 64150\, United States
CATEGORIES:Concerts
ATTACH;FMTTYPE=image/jpeg:https://937thestage.com/wp-content/uploads/sites/31/2026/02/static_facebookpr_1200x630_chrisstapleton_2026_regional_mortonamphitheater_1009.jpg
END:VEVENT
END:VCALENDAR